Package: DiffBind Version: 3.6.5 Command: rm -rf DiffBind.buildbin-libdir && mkdir DiffBind.buildbin-libdir && /Users/biocbuild/BBS/utils/build-universal.sh DiffBind_3.6.5.tar.gz /Library/Frameworks/R.framework/Resources/bin/R DiffBind.buildbin-libdir StartedAt: 2022-10-19 10:14:20 -0400 (Wed, 19 Oct 2022) EndedAt: 2022-10-19 10:16:58 -0400 (Wed, 19 Oct 2022) EllapsedTime: 158.0 seconds RetCode: 0 Status: OK PackageFile: DiffBind_3.6.5.tgz PackageFileSize: 6.945 MiB