Package: DiffBind Version: 3.6.5 Command: /Library/Frameworks/R.framework/Resources/bin/R CMD check --install=check:DiffBind.install-out.txt --library=/Library/Frameworks/R.framework/Resources/library --no-vignettes --timings DiffBind_3.6.5.tar.gz StartedAt: 2022-10-19 01:38:13 -0400 (Wed, 19 Oct 2022) EndedAt: 2022-10-19 01:56:34 -0400 (Wed, 19 Oct 2022) EllapsedTime: 1101.3 seconds RetCode: 0 Status: OK CheckDir: DiffBind.Rcheck Warnings: 0