Package: DiffBind Version: 3.6.5 Command: /Library/Frameworks/R.framework/Resources/bin/R CMD INSTALL DiffBind StartedAt: 2022-10-18 16:17:05 -0400 (Tue, 18 Oct 2022) EndedAt: 2022-10-18 16:19:33 -0400 (Tue, 18 Oct 2022) EllapsedTime: 147.2 seconds RetCode: 0 Status: OK