Package: DiffBind Version: 3.6.5 Command: rm -rf DiffBind.buildbin-libdir && mkdir DiffBind.buildbin-libdir && F:\biocbuild\bbs-3.15-bioc\R\bin\R.exe CMD INSTALL --build --library=DiffBind.buildbin-libdir DiffBind_3.6.5.tar.gz StartedAt: 2022-10-19 05:48:10 -0400 (Wed, 19 Oct 2022) EndedAt: 2022-10-19 05:49:58 -0400 (Wed, 19 Oct 2022) EllapsedTime: 107.8 seconds RetCode: 0 Status: OK PackageFile: DiffBind_3.6.5.zip PackageFileSize: 10.24 MiB