git_url: https://git.bioconductor.org/packages/DriverNet git_branch: RELEASE_3_15 git_last_commit: 6898634 git_last_commit_date: 2022-04-26 11:12:53 -0400 (Tue, 26 Apr 2022) Package: DriverNet Version: 1.36.0 Maintainer: Jiarui Ding MaintainerEmail: jiaruid at cs.ubc.ca