Package: DriverNet Version: 1.36.0 Command: chmod a+r DriverNet -R && F:\biocbuild\bbs-3.15-bioc\R\bin\R.exe CMD build --keep-empty-dirs --no-resave-data DriverNet StartedAt: 2022-10-18 18:14:28 -0400 (Tue, 18 Oct 2022) EndedAt: 2022-10-18 18:15:14 -0400 (Tue, 18 Oct 2022) EllapsedTime: 46.1 seconds RetCode: 0 Status: OK PackageFile: DriverNet_1.36.0.tar.gz PackageFileSize: 1.118 MiB