Package: FastqCleaner Version: 1.14.2 Command: /Library/Frameworks/R.framework/Resources/bin/R CMD build --keep-empty-dirs --no-resave-data FastqCleaner StartedAt: 2022-10-18 18:27:00 -0400 (Tue, 18 Oct 2022) EndedAt: 2022-10-18 18:29:07 -0400 (Tue, 18 Oct 2022) EllapsedTime: 127.3 seconds RetCode: 0 Status: OK PackageFile: FastqCleaner_1.14.2.tar.gz PackageFileSize: 4.271 MiB