Package: FastqCleaner Version: 1.14.2 Command: /home/biocbuild/bbs-3.15-bioc/R/bin/R CMD build --keep-empty-dirs --no-resave-data FastqCleaner StartedAt: 2022-10-18 16:36:41 -0400 (Tue, 18 Oct 2022) EndedAt: 2022-10-18 16:37:57 -0400 (Tue, 18 Oct 2022) EllapsedTime: 75.7 seconds RetCode: 0 Status: OK PackageFile: FastqCleaner_1.14.2.tar.gz PackageFileSize: 4.26 MiB