Package: FastqCleaner Version: 1.14.2 Command: /home/biocbuild/bbs-3.15-bioc/R/bin/R CMD INSTALL FastqCleaner StartedAt: 2022-10-18 15:52:00 -0400 (Tue, 18 Oct 2022) EndedAt: 2022-10-18 15:52:49 -0400 (Tue, 18 Oct 2022) EllapsedTime: 49.6 seconds RetCode: 0 Status: OK