git_url: https://git.bioconductor.org/packages/GenomicScores git_branch: RELEASE_3_15 git_last_commit: 4c823c4 git_last_commit_date: 2022-06-15 12:58:40 -0400 (Wed, 15 Jun 2022) Package: GenomicScores Version: 2.8.2 Maintainer: Robert Castelo MaintainerEmail: robert.castelo at upf.edu