Package: GenomicScores Version: 2.8.2 Command: /Library/Frameworks/R.framework/Resources/bin/R CMD INSTALL GenomicScores StartedAt: 2022-10-18 15:36:43 -0400 (Tue, 18 Oct 2022) EndedAt: 2022-10-18 15:37:37 -0400 (Tue, 18 Oct 2022) EllapsedTime: 54.7 seconds RetCode: 0 Status: OK