Package: GenomicScores Version: 2.8.2 Command: /home/biocbuild/bbs-3.15-bioc/R/bin/R CMD check --install=check:GenomicScores.install-out.txt --library=/home/biocbuild/bbs-3.15-bioc/R/library --no-vignettes --timings GenomicScores_2.8.2.tar.gz StartedAt: 2022-10-18 19:53:16 -0400 (Tue, 18 Oct 2022) EndedAt: 2022-10-18 19:57:02 -0400 (Tue, 18 Oct 2022) EllapsedTime: 225.8 seconds RetCode: 0 Status: OK CheckDir: GenomicScores.Rcheck Warnings: 0