Package: GenomicScores Version: 2.8.2 Command: /home/biocbuild/bbs-3.15-bioc/R/bin/R CMD INSTALL GenomicScores StartedAt: 2022-10-18 15:22:30 -0400 (Tue, 18 Oct 2022) EndedAt: 2022-10-18 15:22:59 -0400 (Tue, 18 Oct 2022) EllapsedTime: 28.5 seconds RetCode: 0 Status: OK