Package: GenomicScores Version: 2.8.2 Command: rm -rf GenomicScores.buildbin-libdir && mkdir GenomicScores.buildbin-libdir && F:\biocbuild\bbs-3.15-bioc\R\bin\R.exe CMD INSTALL --build --library=GenomicScores.buildbin-libdir GenomicScores_2.8.2.tar.gz StartedAt: 2022-10-19 05:56:59 -0400 (Wed, 19 Oct 2022) EndedAt: 2022-10-19 05:57:46 -0400 (Wed, 19 Oct 2022) EllapsedTime: 46.8 seconds RetCode: 0 Status: OK PackageFile: GenomicScores_2.8.2.zip PackageFileSize: 2.687 MiB