Package: GenomicScores Version: 2.8.2 Command: chmod a+r GenomicScores -R && F:\biocbuild\bbs-3.15-bioc\R\bin\R.exe CMD build --keep-empty-dirs --no-resave-data GenomicScores StartedAt: 2022-10-18 18:46:41 -0400 (Tue, 18 Oct 2022) EndedAt: 2022-10-18 18:56:33 -0400 (Tue, 18 Oct 2022) EllapsedTime: 591.7 seconds RetCode: 0 Status: OK PackageFile: GenomicScores_2.8.2.tar.gz PackageFileSize: 2.215 MiB