Package: GenomicScores Version: 2.7.1 Command: chmod a+r GenomicScores -R && D:\biocbuild\bbs-3.15-bioc\R\bin\R.exe CMD build --keep-empty-dirs --no-resave-data GenomicScores StartedAt: 2022-03-17 16:58:21 -0400 (Thu, 17 Mar 2022) EndedAt: 2022-03-17 17:03:31 -0400 (Thu, 17 Mar 2022) EllapsedTime: 309.5 seconds RetCode: 0 Status: OK PackageFile: GenomicScores_2.7.1.tar.gz PackageFileSize: 2.213 MiB