Package: GenomicScores Version: 2.7.1 Command: D:\biocbuild\bbs-3.15-bioc\R\bin\R.exe CMD check --no-multiarch --install=check:GenomicScores.install-out.txt --library=D:\biocbuild\bbs-3.15-bioc\R\library --no-vignettes --timings GenomicScores_2.7.1.tar.gz StartedAt: 2022-03-17 19:11:18 -0400 (Thu, 17 Mar 2022) EndedAt: 2022-03-17 19:14:31 -0400 (Thu, 17 Mar 2022) EllapsedTime: 193.2 seconds RetCode: 0 Status: OK CheckDir: GenomicScores.Rcheck Warnings: 0