Package: GenomicScores Version: 2.7.1 Command: D:\biocbuild\bbs-3.15-bioc\R\bin\R.exe CMD INSTALL GenomicScores StartedAt: 2022-03-17 15:45:56 -0400 (Thu, 17 Mar 2022) EndedAt: 2022-03-17 15:47:18 -0400 (Thu, 17 Mar 2022) EllapsedTime: 82.0 seconds RetCode: 0 Status: OK