Package: GraphAlignment Version: 1.60.0 Command: rm -rf GraphAlignment.buildbin-libdir && mkdir GraphAlignment.buildbin-libdir && F:\biocbuild\bbs-3.15-bioc\R\bin\R.exe CMD INSTALL --build --library=GraphAlignment.buildbin-libdir GraphAlignment_1.60.0.tar.gz StartedAt: 2022-10-19 05:59:20 -0400 (Wed, 19 Oct 2022) EndedAt: 2022-10-19 05:59:33 -0400 (Wed, 19 Oct 2022) EllapsedTime: 13.3 seconds RetCode: 0 Status: OK PackageFile: GraphAlignment_1.60.0.zip PackageFileSize: 442.8 KiB