Package: GraphAlignment Version: 1.60.0 Command: chmod a+r GraphAlignment -R && F:\biocbuild\bbs-3.15-bioc\R\bin\R.exe CMD build --keep-empty-dirs --no-resave-data GraphAlignment StartedAt: 2022-10-18 18:55:57 -0400 (Tue, 18 Oct 2022) EndedAt: 2022-10-18 18:56:13 -0400 (Tue, 18 Oct 2022) EllapsedTime: 15.9 seconds RetCode: 0 Status: OK PackageFile: GraphAlignment_1.60.0.tar.gz PackageFileSize: 455.5 KiB