Package: HiCDCPlus Version: 1.4.2 Command: rm -rf HiCDCPlus.buildbin-libdir && mkdir HiCDCPlus.buildbin-libdir && F:\biocbuild\bbs-3.15-bioc\R\bin\R.exe CMD INSTALL --build --library=HiCDCPlus.buildbin-libdir HiCDCPlus_1.4.2.tar.gz StartedAt: 2022-10-19 06:00:55 -0400 (Wed, 19 Oct 2022) EndedAt: 2022-10-19 06:01:53 -0400 (Wed, 19 Oct 2022) EllapsedTime: 58.8 seconds RetCode: 0 Status: OK PackageFile: HiCDCPlus_1.4.2.zip PackageFileSize: 1.752 MiB