Package: ISAnalytics Version: 1.6.2 Command: rm -rf ISAnalytics.buildbin-libdir && mkdir ISAnalytics.buildbin-libdir && /Users/biocbuild/BBS/utils/build-universal.sh ISAnalytics_1.6.2.tar.gz /Library/Frameworks/R.framework/Resources/bin/R ISAnalytics.buildbin-libdir StartedAt: 2022-10-19 10:33:43 -0400 (Wed, 19 Oct 2022) EndedAt: 2022-10-19 10:34:27 -0400 (Wed, 19 Oct 2022) EllapsedTime: 43.5 seconds RetCode: 0 Status: OK PackageFile: ISAnalytics_1.6.2.tgz PackageFileSize: 4.94 MiB