Package: ISAnalytics Version: 1.6.2 Command: /Library/Frameworks/R.framework/Resources/bin/R CMD build --keep-empty-dirs --no-resave-data ISAnalytics StartedAt: 2022-10-18 19:15:33 -0400 (Tue, 18 Oct 2022) EndedAt: 2022-10-18 19:16:47 -0400 (Tue, 18 Oct 2022) EllapsedTime: 73.2 seconds RetCode: 0 Status: OK PackageFile: ISAnalytics_1.6.2.tar.gz PackageFileSize: 4.226 MiB