Package: IsoCorrectoRGUI Version: 1.12.0 Command: /home/biocbuild/bbs-3.15-bioc/R/bin/R CMD build --keep-empty-dirs --no-resave-data IsoCorrectoRGUI StartedAt: 2022-10-18 16:57:45 -0400 (Tue, 18 Oct 2022) EndedAt: 2022-10-18 16:57:53 -0400 (Tue, 18 Oct 2022) EllapsedTime: 8.3 seconds RetCode: 0 Status: OK PackageFile: IsoCorrectoRGUI_1.12.0.tar.gz PackageFileSize: 438.9 KiB