Package: IsoCorrectoRGUI Version: 1.11.0 Command: rm -rf IsoCorrectoRGUI.buildbin-libdir && mkdir IsoCorrectoRGUI.buildbin-libdir && D:\biocbuild\bbs-3.15-bioc\R\bin\R.exe CMD INSTALL --build --library=IsoCorrectoRGUI.buildbin-libdir IsoCorrectoRGUI_1.11.0.tar.gz StartedAt: 2022-03-17 21:16:21 -0400 (Thu, 17 Mar 2022) EndedAt: 2022-03-17 21:17:48 -0400 (Thu, 17 Mar 2022) EllapsedTime: 86.9 seconds RetCode: 0 Status: OK PackageFile: IsoCorrectoRGUI_1.11.0.zip PackageFileSize: 486.2 KiB