Package: IsoCorrectoRGUI Version: 1.11.0 Command: D:\biocbuild\bbs-3.15-bioc\R\bin\R.exe CMD check --no-multiarch --install=check:IsoCorrectoRGUI.install-out.txt --library=D:\biocbuild\bbs-3.15-bioc\R\library --no-vignettes --timings IsoCorrectoRGUI_1.11.0.tar.gz StartedAt: 2022-03-17 19:24:00 -0400 (Thu, 17 Mar 2022) EndedAt: 2022-03-17 19:24:43 -0400 (Thu, 17 Mar 2022) EllapsedTime: 42.9 seconds RetCode: 0 Status: OK CheckDir: IsoCorrectoRGUI.Rcheck Warnings: 0