Package: LOBSTAHS Version: 1.22.0 Command: F:\biocbuild\bbs-3.15-bioc\R\bin\R.exe CMD check --no-multiarch --install=check:LOBSTAHS.install-out.txt --library=F:\biocbuild\bbs-3.15-bioc\R\library --no-vignettes --timings LOBSTAHS_1.22.0.tar.gz StartedAt: 2022-10-19 01:24:23 -0400 (Wed, 19 Oct 2022) EndedAt: 2022-10-19 01:29:14 -0400 (Wed, 19 Oct 2022) EllapsedTime: 291.8 seconds RetCode: 0 Status: WARNINGS CheckDir: LOBSTAHS.Rcheck Warnings: 1