git_url: https://git.bioconductor.org/packages/MQmetrics git_branch: RELEASE_3_15 git_last_commit: 2c8f6d8 git_last_commit_date: 2022-04-26 12:15:41 -0400 (Tue, 26 Apr 2022) Package: MQmetrics Version: 1.4.0 Maintainer: Alvaro Sanchez-Villalba MaintainerEmail: sanchezvillalba.alvaro at gmail.com