Package: MQmetrics Version: 1.3.3 Command: chmod a+r MQmetrics -R && D:\biocbuild\bbs-3.15-bioc\R\bin\R.exe CMD build --keep-empty-dirs --no-resave-data MQmetrics StartedAt: 2022-03-17 17:24:37 -0400 (Thu, 17 Mar 2022) EndedAt: 2022-03-17 17:25:59 -0400 (Thu, 17 Mar 2022) EllapsedTime: 82.7 seconds RetCode: 0 Status: OK PackageFile: MQmetrics_1.3.3.tar.gz PackageFileSize: 2.558 MiB