Package: MQmetrics Version: 1.3.3 Command: D:\biocbuild\bbs-3.15-bioc\R\bin\R.exe CMD INSTALL MQmetrics StartedAt: 2022-03-17 16:02:52 -0400 (Thu, 17 Mar 2022) EndedAt: 2022-03-17 16:03:58 -0400 (Thu, 17 Mar 2022) EllapsedTime: 66.8 seconds RetCode: 0 Status: OK