Package: MSstatsLiP Version: 1.2.1 Command: chmod a+r MSstatsLiP -R && F:\biocbuild\bbs-3.15-bioc\R\bin\R.exe CMD build --keep-empty-dirs --no-resave-data MSstatsLiP StartedAt: 2022-10-18 19:44:22 -0400 (Tue, 18 Oct 2022) EndedAt: 2022-10-18 19:45:32 -0400 (Tue, 18 Oct 2022) EllapsedTime: 70.6 seconds RetCode: 0 Status: OK PackageFile: MSstatsLiP_1.2.1.tar.gz PackageFileSize: 1.358 MiB