git_url: https://git.bioconductor.org/packages/MatrixRider git_branch: RELEASE_3_15 git_last_commit: 94bb9bd git_last_commit_date: 2022-04-26 11:24:12 -0400 (Tue, 26 Apr 2022) Package: MatrixRider Version: 1.28.0 Maintainer: Elena Grassi MaintainerEmail: grassi.e at gmail.com