Package: MatrixRider Version: 1.27.0 Command: D:\biocbuild\bbs-3.15-bioc\R\bin\R.exe CMD check --no-multiarch --install=check:MatrixRider.install-out.txt --library=D:\biocbuild\bbs-3.15-bioc\R\library --no-vignettes --timings MatrixRider_1.27.0.tar.gz StartedAt: 2022-03-17 19:29:24 -0400 (Thu, 17 Mar 2022) EndedAt: 2022-03-17 19:32:58 -0400 (Thu, 17 Mar 2022) EllapsedTime: 214.1 seconds RetCode: 0 Status: OK CheckDir: MatrixRider.Rcheck Warnings: 0