git_url: https://git.bioconductor.org/packages/MetaboAnnotation git_branch: RELEASE_3_15 git_last_commit: 47f0975 git_last_commit_date: 2022-04-26 12:21:04 -0400 (Tue, 26 Apr 2022) Package: MetaboAnnotation Version: 1.0.0 Maintainer: Johannes Rainer MaintainerEmail: Johannes.Rainer at eurac.edu