Package: MicrobiotaProcess Version: 1.8.2 Command: /Library/Frameworks/R.framework/Resources/bin/R CMD build --keep-empty-dirs --no-resave-data MicrobiotaProcess StartedAt: 2022-10-18 19:43:40 -0400 (Tue, 18 Oct 2022) EndedAt: 2022-10-18 19:48:01 -0400 (Tue, 18 Oct 2022) EllapsedTime: 261.2 seconds RetCode: 0 Status: OK PackageFile: MicrobiotaProcess_1.8.2.tar.gz PackageFileSize: 3.675 MiB