Package: MicrobiotaProcess Version: 1.8.2 Command: rm -rf MicrobiotaProcess.buildbin-libdir && mkdir MicrobiotaProcess.buildbin-libdir && F:\biocbuild\bbs-3.15-bioc\R\bin\R.exe CMD INSTALL --build --library=MicrobiotaProcess.buildbin-libdir MicrobiotaProcess_1.8.2.tar.gz StartedAt: 2022-10-19 06:10:02 -0400 (Wed, 19 Oct 2022) EndedAt: 2022-10-19 06:11:58 -0400 (Wed, 19 Oct 2022) EllapsedTime: 116.6 seconds RetCode: 0 Status: OK PackageFile: MicrobiotaProcess_1.8.2.zip PackageFileSize: 3.652 MiB