Package: MicrobiotaProcess Version: 1.8.2 Command: chmod a+r MicrobiotaProcess -R && F:\biocbuild\bbs-3.15-bioc\R\bin\R.exe CMD build --keep-empty-dirs --no-resave-data MicrobiotaProcess StartedAt: 2022-10-18 19:32:35 -0400 (Tue, 18 Oct 2022) EndedAt: 2022-10-18 19:35:56 -0400 (Tue, 18 Oct 2022) EllapsedTime: 200.7 seconds RetCode: 0 Status: OK PackageFile: MicrobiotaProcess_1.8.2.tar.gz PackageFileSize: 2.8 MiB