Package: MicrobiotaProcess Version: 1.7.8 Command: rm -rf MicrobiotaProcess.buildbin-libdir && mkdir MicrobiotaProcess.buildbin-libdir && D:\biocbuild\bbs-3.15-bioc\R\bin\R.exe CMD INSTALL --build --library=MicrobiotaProcess.buildbin-libdir MicrobiotaProcess_1.7.8.tar.gz StartedAt: 2022-03-17 21:20:57 -0400 (Thu, 17 Mar 2022) EndedAt: 2022-03-17 21:22:34 -0400 (Thu, 17 Mar 2022) EllapsedTime: 96.9 seconds RetCode: 0 Status: OK PackageFile: MicrobiotaProcess_1.7.8.zip PackageFileSize: 3.398 MiB