Package: MsBackendMsp Version: 1.0.0 Command: /Library/Frameworks/R.framework/Resources/bin/R CMD build --keep-empty-dirs --no-resave-data MsBackendMsp StartedAt: 2022-10-18 19:56:53 -0400 (Tue, 18 Oct 2022) EndedAt: 2022-10-18 19:57:21 -0400 (Tue, 18 Oct 2022) EllapsedTime: 28.1 seconds RetCode: 0 Status: OK PackageFile: MsBackendMsp_1.0.0.tar.gz PackageFileSize: 306.3 KiB