git_url: https://git.bioconductor.org/packages/NTW git_branch: RELEASE_3_15 git_last_commit: a57481a git_last_commit_date: 2022-04-26 11:05:19 -0400 (Tue, 26 Apr 2022) Package: NTW Version: 1.46.0 Maintainer: Yuanhua Liu MaintainerEmail: liuyuanhua at picb.ac.cn