Package: OMICsPCA Version: 1.14.0 Command: /home/biocbuild/bbs-3.15-bioc/R/bin/R CMD INSTALL OMICsPCA StartedAt: 2022-10-18 15:50:58 -0400 (Tue, 18 Oct 2022) EndedAt: 2022-10-18 15:51:46 -0400 (Tue, 18 Oct 2022) EllapsedTime: 48.4 seconds RetCode: 0 Status: OK