Package: OMICsPCA Version: 1.14.0 Command: F:\biocbuild\bbs-3.15-bioc\R\bin\R.exe CMD check --no-multiarch --install=check:OMICsPCA.install-out.txt --library=F:\biocbuild\bbs-3.15-bioc\R\library --no-vignettes --timings OMICsPCA_1.14.0.tar.gz StartedAt: 2022-10-19 02:32:00 -0400 (Wed, 19 Oct 2022) EndedAt: 2022-10-19 02:38:47 -0400 (Wed, 19 Oct 2022) EllapsedTime: 407.2 seconds RetCode: 0 Status: OK CheckDir: OMICsPCA.Rcheck Warnings: 0