git_url: https://git.bioconductor.org/packages/OPWeight git_branch: RELEASE_3_15 git_last_commit: 31e3e89 git_last_commit_date: 2022-04-26 11:41:44 -0400 (Tue, 26 Apr 2022) Package: OPWeight Version: 1.18.0 Maintainer: Mohamad Hasan MaintainerEmail: shakilmohamad7 at gmail.com