Package: OPWeight Version: 1.18.0 Command: /Library/Frameworks/R.framework/Resources/bin/R CMD check --install=check:OPWeight.install-out.txt --library=/Library/Frameworks/R.framework/Resources/library --no-vignettes --timings OPWeight_1.18.0.tar.gz StartedAt: 2022-10-19 05:46:13 -0400 (Wed, 19 Oct 2022) EndedAt: 2022-10-19 05:47:37 -0400 (Wed, 19 Oct 2022) EllapsedTime: 83.6 seconds RetCode: 0 Status: OK CheckDir: OPWeight.Rcheck Warnings: 0