Package: OPWeight Version: 1.18.0 Command: F:\biocbuild\bbs-3.15-bioc\R\bin\R.exe CMD check --no-multiarch --install=check:OPWeight.install-out.txt --library=F:\biocbuild\bbs-3.15-bioc\R\library --no-vignettes --timings OPWeight_1.18.0.tar.gz StartedAt: 2022-10-19 02:36:02 -0400 (Wed, 19 Oct 2022) EndedAt: 2022-10-19 02:37:17 -0400 (Wed, 19 Oct 2022) EllapsedTime: 75.5 seconds RetCode: 0 Status: OK CheckDir: OPWeight.Rcheck Warnings: 0