Package: PROPER Version: 1.28.0 Command: /Library/Frameworks/R.framework/Resources/bin/R CMD build --keep-empty-dirs --no-resave-data PROPER StartedAt: 2022-10-18 20:51:34 -0400 (Tue, 18 Oct 2022) EndedAt: 2022-10-18 20:51:48 -0400 (Tue, 18 Oct 2022) EllapsedTime: 13.7 seconds RetCode: 0 Status: OK PackageFile: PROPER_1.28.0.tar.gz PackageFileSize: 1.776 MiB