Package: PROPER Version: 1.28.0 Command: rm -rf PROPER.buildbin-libdir && mkdir PROPER.buildbin-libdir && F:\biocbuild\bbs-3.15-bioc\R\bin\R.exe CMD INSTALL --build --library=PROPER.buildbin-libdir PROPER_1.28.0.tar.gz StartedAt: 2022-10-19 06:22:21 -0400 (Wed, 19 Oct 2022) EndedAt: 2022-10-19 06:22:29 -0400 (Wed, 19 Oct 2022) EllapsedTime: 8.8 seconds RetCode: 0 Status: OK PackageFile: PROPER_1.28.0.zip PackageFileSize: 1.577 MiB