Package: PROPER Version: 1.27.0 Command: rm -rf PROPER.buildbin-libdir && mkdir PROPER.buildbin-libdir && D:\biocbuild\bbs-3.15-bioc\R\bin\R.exe CMD INSTALL --build --library=PROPER.buildbin-libdir PROPER_1.27.0.tar.gz StartedAt: 2022-03-17 21:29:50 -0400 (Thu, 17 Mar 2022) EndedAt: 2022-03-17 21:31:12 -0400 (Thu, 17 Mar 2022) EllapsedTime: 82.2 seconds RetCode: 0 Status: OK PackageFile: PROPER_1.27.0.zip PackageFileSize: 1.59 MiB