Package: PROPS Version: 1.18.0 Command: rm -rf PROPS.buildbin-libdir && mkdir PROPS.buildbin-libdir && F:\biocbuild\bbs-3.15-bioc\R\bin\R.exe CMD INSTALL --build --library=PROPS.buildbin-libdir PROPS_1.18.0.tar.gz StartedAt: 2022-10-19 06:22:23 -0400 (Wed, 19 Oct 2022) EndedAt: 2022-10-19 06:22:56 -0400 (Wed, 19 Oct 2022) EllapsedTime: 33.5 seconds RetCode: 0 Status: OK PackageFile: PROPS_1.18.0.zip PackageFileSize: 3.607 MiB