Package: PSICQUIC Version: 1.34.0 Command: rm -rf PSICQUIC.buildbin-libdir && mkdir PSICQUIC.buildbin-libdir && /Users/biocbuild/BBS/utils/build-universal.sh PSICQUIC_1.34.0.tar.gz /Library/Frameworks/R.framework/Resources/bin/R PSICQUIC.buildbin-libdir StartedAt: 2022-10-19 10:56:41 -0400 (Wed, 19 Oct 2022) EndedAt: 2022-10-19 10:57:18 -0400 (Wed, 19 Oct 2022) EllapsedTime: 37.6 seconds RetCode: 0 Status: OK PackageFile: PSICQUIC_1.34.0.tgz PackageFileSize: 501.3 KiB